BEGIN:VCALENDAR
VERSION:2.0
PRODID:-//Plone.org//NONSGML plone.app.event//EN
X-WR-TIMEZONE:Europe/Zurich
BEGIN:VEVENT
SUMMARY:Cambridge Prüfungen: First (FCE) und Advanced (CAE)
DTSTART;VALUE=DATE:20200619
DTEND;VALUE=DATE:20200621
DTSTAMP;VALUE=DATE-TIME:20260424T020155Z
UID:26fcb3273792423ab3ba942a1bebfbf2@127.0.0.1:10150
CREATED;VALUE=DATE-TIME:20200429T090358Z
LAST-MODIFIED;VALUE=DATE-TIME:20200429T090402Z
URL:https://gymnasium.ai.ch/nuetzliches/termine/cambridge-pruefungen-first
 -fce-und-advanced-cae-1
END:VEVENT
END:VCALENDAR
