BEGIN:VCALENDAR
VERSION:2.0
PRODID:-//Plone.org//NONSGML plone.app.event//EN
X-WR-TIMEZONE:Europe/Zurich
BEGIN:VEVENT
SUMMARY:Cambridge Prüfungen: First (FCE) und Advanced (CAE)
DTSTART;VALUE=DATE:20210618
DTEND;VALUE=DATE:20210620
DTSTAMP;VALUE=DATE-TIME:20260423T231611Z
UID:0aed20af6cbd4057aebc6d1e6d528b2b@127.0.0.1:10150
CREATED;VALUE=DATE-TIME:20210417T150054Z
LAST-MODIFIED;VALUE=DATE-TIME:20210417T150102Z
URL:https://gymnasium.ai.ch/nuetzliches/termine/cambridge-pruefungen-first
 -fce-und-advanced-cae-2
END:VEVENT
END:VCALENDAR
