BEGIN:VCALENDAR
VERSION:2.0
PRODID:-//Plone.org//NONSGML plone.app.event//EN
X-WR-TIMEZONE:Europe/Zurich
BEGIN:VEVENT
SUMMARY:Cambridge Prüfungen: First (FCE) und Advanced (CAE)
DTSTART;VALUE=DATE:20180622
DTEND;VALUE=DATE:20180624
DTSTAMP;VALUE=DATE-TIME:20260424T004729Z
UID:b8036dde6a52458cb2fa604e408932ee@127.0.0.1:10150
CREATED;VALUE=DATE-TIME:20180307T094633Z
LAST-MODIFIED;VALUE=DATE-TIME:20180511T065059Z
URL:https://gymnasium.ai.ch/nuetzliches/termine/cambridge-pruefungen-first
 -fce-und-advanced-cae
END:VEVENT
END:VCALENDAR
