BEGIN:VCALENDAR
VERSION:2.0
PRODID:-//Plone.org//NONSGML plone.app.event//EN
X-WR-TIMEZONE:Europe/Zurich
BEGIN:VEVENT
SUMMARY:Cambridge Prüfungen in St. Gallen: Advanced (CAE)
DTSTART;VALUE=DATE:20240608
DTEND;VALUE=DATE:20240609
DTSTAMP;VALUE=DATE-TIME:20260423T231619Z
UID:d3532f753327438f99c4dde5b65888b1@127.0.0.1:6081
CREATED;VALUE=DATE-TIME:20240410T093646Z
LAST-MODIFIED;VALUE=DATE-TIME:20240410T093652Z
URL:https://gymnasium.ai.ch/nuetzliches/termine/cambridge-pruefungen-in-st
 -gallen-advanced-cae
END:VEVENT
END:VCALENDAR
