BEGIN:VCALENDAR
VERSION:2.0
PRODID:-//Plone.org//NONSGML plone.app.event//EN
X-WR-TIMEZONE:Europe/Zurich
BEGIN:VEVENT
SUMMARY:Cambridge Prüfungen in St. Gallen: Advanced
DTSTART;VALUE=DATE:20250614
DTEND;VALUE=DATE:20250615
DTSTAMP;VALUE=DATE-TIME:20260423T231537Z
UID:3f193d18b68e40609c6231f63c8a1353@127.0.0.1:6081
CREATED;VALUE=DATE-TIME:20250510T092130Z
LAST-MODIFIED;VALUE=DATE-TIME:20250510T092136Z
URL:https://gymnasium.ai.ch/nuetzliches/termine/cambridge-pruefungen-in-st
 -gallen-advanced
END:VEVENT
END:VCALENDAR
