BEGIN:VCALENDAR
VERSION:2.0
PRODID:-//Plone.org//NONSGML plone.app.event//EN
X-WR-TIMEZONE:Europe/Zurich
BEGIN:VEVENT
SUMMARY:Cambridge Prüfungen in St. Gallen: First (FCE) und Advanced (CAE)
DTSTART;VALUE=DATE:20230624
DTEND;VALUE=DATE:20230625
DTSTAMP;VALUE=DATE-TIME:20260423T231748Z
UID:e073d861e8154a68b078c6ffcd1e748e@127.0.0.1:6081
CREATED;VALUE=DATE-TIME:20230423T154629Z
LAST-MODIFIED;VALUE=DATE-TIME:20230423T154634Z
URL:https://gymnasium.ai.ch/nuetzliches/termine/cambridge-pruefungen-in-st
 -gallen-first-fce-und-advanced-cae
END:VEVENT
END:VCALENDAR
