BEGIN:VCALENDAR
VERSION:2.0
PRODID:-//Plone.org//NONSGML plone.app.event//EN
X-WR-TIMEZONE:Europe/Zurich
BEGIN:VEVENT
SUMMARY:Cambridge Prüfungen in St. Gallen: First (FCE)
DTSTART;VALUE=DATE:20240622
DTEND;VALUE=DATE:20240623
DTSTAMP;VALUE=DATE-TIME:20260423T231753Z
UID:5d5b9a17ed6b4edf8f8df1bc96a567c1@127.0.0.1:6081
CREATED;VALUE=DATE-TIME:20240410T094025Z
LAST-MODIFIED;VALUE=DATE-TIME:20240410T094031Z
URL:https://gymnasium.ai.ch/nuetzliches/termine/cambridge-pruefungen-in-st
 -gallen-first-fce
END:VEVENT
END:VCALENDAR
