BEGIN:VCALENDAR
VERSION:2.0
PRODID:-//Plone.org//NONSGML plone.app.event//EN
X-WR-TIMEZONE:Europe/Zurich
BEGIN:VEVENT
SUMMARY:Cambridge Prüfungen in St. Gallen: First
DTSTART;VALUE=DATE:20250628
DTEND;VALUE=DATE:20250629
DTSTAMP;VALUE=DATE-TIME:20260423T231539Z
UID:1266aa6dc8b24c89a5c35050aefaff91@127.0.0.1:6081
CREATED;VALUE=DATE-TIME:20250510T092650Z
LAST-MODIFIED;VALUE=DATE-TIME:20250510T092728Z
URL:https://gymnasium.ai.ch/nuetzliches/termine/cambridge-pruefungen-in-st
 -gallen-first
END:VEVENT
END:VCALENDAR
