BEGIN:VCALENDAR
VERSION:2.0
PRODID:-//Plone.org//NONSGML plone.app.event//EN
X-WR-TIMEZONE:Europe/Zurich
BEGIN:VEVENT
SUMMARY:Cambridge Prüfungen in St. Gallen: Proficiency (CPE)\, Maturaklas
 sen
DTSTART;VALUE=DATE:20230519
DTEND;VALUE=DATE:20230520
DTSTAMP;VALUE=DATE-TIME:20260423T231820Z
UID:b43300f16e1347e7a73f02950c41a71c@127.0.0.1:6081
CREATED;VALUE=DATE-TIME:20230423T191535Z
LAST-MODIFIED;VALUE=DATE-TIME:20230423T191606Z
URL:https://gymnasium.ai.ch/nuetzliches/termine/cambridge-pruefungen-in-st
 -gallen-proficiency-cpe-maturaklassen
END:VEVENT
END:VCALENDAR
