BEGIN:VCALENDAR
VERSION:2.0
PRODID:-//Plone.org//NONSGML plone.app.event//EN
X-WR-TIMEZONE:Europe/Zurich
BEGIN:VEVENT
SUMMARY:Cambridge Prüfungen in St. Gallen: Proficiency (CPE)
DTSTART;VALUE=DATE:20230622
DTEND;VALUE=DATE:20230623
DTSTAMP;VALUE=DATE-TIME:20260423T231657Z
UID:e93280feae894623a717adf402e4597c@127.0.0.1:6081
CREATED;VALUE=DATE-TIME:20230423T153529Z
LAST-MODIFIED;VALUE=DATE-TIME:20230423T153537Z
URL:https://gymnasium.ai.ch/nuetzliches/termine/cambridge-pruefungen-in-st
 -gallen-proficiency-cpe
END:VEVENT
END:VCALENDAR
