BEGIN:VCALENDAR
VERSION:2.0
PRODID:-//Plone.org//NONSGML plone.app.event//EN
X-WR-TIMEZONE:Europe/Zurich
BEGIN:VEVENT
SUMMARY:Cambridge Prüfungen in St. Gallen: Proficiency und Advanced (6. G
 ym.)
DTSTART;VALUE=DATE:20250524
DTEND;VALUE=DATE:20250525
DTSTAMP;VALUE=DATE-TIME:20260423T231808Z
UID:6772719afc9f458c9781e2aae601dce1@127.0.0.1:6081
CREATED;VALUE=DATE-TIME:20250510T081259Z
LAST-MODIFIED;VALUE=DATE-TIME:20250510T081305Z
URL:https://gymnasium.ai.ch/nuetzliches/termine/cambridge-pruefungen-in-st
 -gallen-proficiency-und-advanced-6-gym
END:VEVENT
END:VCALENDAR
