BEGIN:VCALENDAR
VERSION:2.0
PRODID:-//Plone.org//NONSGML plone.app.event//EN
X-WR-TIMEZONE:Europe/Zurich
BEGIN:VEVENT
SUMMARY:Cambridge Prüfungen: Proficiency (CPE)
DTSTART;VALUE=DATE:20210610
DTEND;VALUE=DATE:20210612
DTSTAMP;VALUE=DATE-TIME:20260423T231532Z
UID:6203eab5c4964f3b935577a05ac5aea2@127.0.0.1:10150
CREATED;VALUE=DATE-TIME:20210417T144600Z
LAST-MODIFIED;VALUE=DATE-TIME:20210417T144605Z
URL:https://gymnasium.ai.ch/nuetzliches/termine/cambridge-pruefungen-profi
 ciency-cpe-1
END:VEVENT
END:VCALENDAR
