BEGIN:VCALENDAR
VERSION:2.0
PRODID:-//Plone.org//NONSGML plone.app.event//EN
X-WR-TIMEZONE:Europe/Zurich
BEGIN:VEVENT
SUMMARY:Cambridge Prüfungen: Advanced (CAE)\, Maturaklassen
DTSTART;VALUE=DATE:20200515
DTEND;VALUE=DATE:20200517
DTSTAMP;VALUE=DATE-TIME:20260423T231754Z
UID:b2136c876b14467ca14c0465c4065412@127.0.0.1:10150
CREATED;VALUE=DATE-TIME:20200429T090005Z
LAST-MODIFIED;VALUE=DATE-TIME:20200430T075402Z
URL:https://gymnasium.ai.ch/nuetzliches/termine/cambridge-pruefungen-profi
 ciency-cpe-maturaklassen
END:VEVENT
END:VCALENDAR
