BEGIN:VCALENDAR
VERSION:2.0
PRODID:-//Plone.org//NONSGML plone.app.event//EN
X-WR-TIMEZONE:Europe/Zurich
BEGIN:VEVENT
SUMMARY:Cambridge Prüfungen: Proficiency (CPE) und Advanced (CAE)\, Matur
 aklassen
DTSTART;VALUE=DATE:20210514
DTEND;VALUE=DATE:20210516
DTSTAMP;VALUE=DATE-TIME:20260424T004951Z
UID:e84d39206edc4a39b3820e73e680814f@127.0.0.1:10150
CREATED;VALUE=DATE-TIME:20210417T193639Z
LAST-MODIFIED;VALUE=DATE-TIME:20210417T193657Z
URL:https://gymnasium.ai.ch/nuetzliches/termine/cambridge-pruefungen-profi
 ciency-cpe-und-advanced-cae-maturaklassen
END:VEVENT
END:VCALENDAR
