BEGIN:VCALENDAR
VERSION:2.0
PRODID:-//Plone.org//NONSGML plone.app.event//EN
X-WR-TIMEZONE:Europe/Zurich
BEGIN:VEVENT
SUMMARY:Cambridge Prüfungen: Proficiency (CPE)
DTSTART;VALUE=DATE:20200611
DTEND;VALUE=DATE:20200613
DTSTAMP;VALUE=DATE-TIME:20260423T231514Z
UID:d58d2343a74c421587fc3ed0782138fa@127.0.0.1:10150
CREATED;VALUE=DATE-TIME:20200429T090216Z
LAST-MODIFIED;VALUE=DATE-TIME:20200429T090220Z
URL:https://gymnasium.ai.ch/nuetzliches/termine/cambridge-pruefungen-profi
 ciency-cpe
END:VEVENT
END:VCALENDAR
