BEGIN:VCALENDAR
VERSION:2.0
PRODID:-//Plone.org//NONSGML plone.app.event//EN
X-WR-TIMEZONE:Europe/Zurich
BEGIN:VEVENT
SUMMARY:Casinoabend: Verschoben auf Januar 2023.
DTSTART;VALUE=DATE-TIME:20220114T180000Z
DTEND;VALUE=DATE-TIME:20220114T220000Z
DTSTAMP;VALUE=DATE-TIME:20260424T004609Z
UID:6ec11637507a4ea6833f1f1d0e61da0f@127.0.0.1:10150
CREATED;VALUE=DATE-TIME:20211024T074700Z
LAST-MODIFIED;VALUE=DATE-TIME:20211207T190805Z
URL:https://gymnasium.ai.ch/nuetzliches/termine/casinoabend-2
END:VEVENT
END:VCALENDAR
