BEGIN:VCALENDAR
VERSION:2.0
PRODID:-//Plone.org//NONSGML plone.app.event//EN
X-WR-TIMEZONE:Europe/Zurich
BEGIN:VEVENT
SUMMARY:Casinoabend
DTSTART;TZID=Europe/Vienna;VALUE=DATE-TIME:20230120T190000
DTEND;TZID=Europe/Vienna;VALUE=DATE-TIME:20230120T230000
DTSTAMP;VALUE=DATE-TIME:20260424T004324Z
UID:5aa8ffe3472b4ae2b2c0f9262fab5904@127.0.0.1:6081
CREATED;VALUE=DATE-TIME:20220711T204328Z
LAST-MODIFIED;VALUE=DATE-TIME:20220711T204336Z
URL:https://gymnasium.ai.ch/nuetzliches/termine/casinoabend-3
END:VEVENT
BEGIN:VTIMEZONE
TZID:Europe/Vienna
X-LIC-LOCATION:Europe/Vienna
BEGIN:STANDARD
DTSTART;VALUE=DATE-TIME:20221030T020000
TZNAME:CET
TZOFFSETFROM:+0200
TZOFFSETTO:+0100
END:STANDARD
END:VTIMEZONE
END:VCALENDAR
