BEGIN:VCALENDAR
VERSION:2.0
PRODID:-//Plone.org//NONSGML plone.app.event//EN
X-WR-TIMEZONE:Europe/Zurich
BEGIN:VEVENT
SUMMARY:Casinoabend
DTSTART;VALUE=DATE-TIME:20180119T180000Z
DTEND;VALUE=DATE-TIME:20180119T220000Z
DTSTAMP;VALUE=DATE-TIME:20260424T004610Z
UID:2e441f4a13544580b5da159358aac97d@127.0.0.1:10150
CREATED;VALUE=DATE-TIME:20180109T141931Z
DESCRIPTION:Casinoabend (19.00 – 23.00 Uhr\, Foyer)
LAST-MODIFIED;VALUE=DATE-TIME:20180109T141949Z
URL:https://gymnasium.ai.ch/nuetzliches/termine/casinoabend
END:VEVENT
END:VCALENDAR
