BEGIN:VCALENDAR
VERSION:2.0
PRODID:-//Plone.org//NONSGML plone.app.event//EN
X-WR-TIMEZONE:Europe/Zurich
BEGIN:VEVENT
SUMMARY:Chemieshow LHF Chemie
DTSTART;TZID=Europe/Vienna;VALUE=DATE-TIME:20230506T190000
DTEND;TZID=Europe/Vienna;VALUE=DATE-TIME:20230506T203000
DTSTAMP;VALUE=DATE-TIME:20260424T020425Z
UID:66729d2d678d40f68ab7ca44e33f1b7e@127.0.0.1:6081
CREATED;VALUE=DATE-TIME:20230423T073011Z
LAST-MODIFIED;VALUE=DATE-TIME:20230423T073026Z
URL:https://gymnasium.ai.ch/nuetzliches/termine/chemieshow-lhf-chemie-1
END:VEVENT
BEGIN:VTIMEZONE
TZID:Europe/Vienna
X-LIC-LOCATION:Europe/Vienna
BEGIN:DAYLIGHT
DTSTART;VALUE=DATE-TIME:20230326T030000
TZNAME:CEST
TZOFFSETFROM:+0100
TZOFFSETTO:+0200
END:DAYLIGHT
END:VTIMEZONE
END:VCALENDAR
