BEGIN:VCALENDAR
VERSION:2.0
PRODID:-//Plone.org//NONSGML plone.app.event//EN
X-WR-TIMEZONE:Europe/Zurich
BEGIN:VEVENT
SUMMARY:Chemieshow LHF Chemie
DTSTART;TZID=Europe/Vienna;VALUE=DATE-TIME:20230504T190000
DTEND;TZID=Europe/Vienna;VALUE=DATE-TIME:20230504T203000
DTSTAMP;VALUE=DATE-TIME:20260423T231542Z
UID:fbb4a156d5db41309c68407c6d9338f1@127.0.0.1:6081
CREATED;VALUE=DATE-TIME:20230423T072453Z
LAST-MODIFIED;VALUE=DATE-TIME:20230423T072459Z
URL:https://gymnasium.ai.ch/nuetzliches/termine/chemieshow-lhf-chemie
END:VEVENT
BEGIN:VTIMEZONE
TZID:Europe/Vienna
X-LIC-LOCATION:Europe/Vienna
BEGIN:DAYLIGHT
DTSTART;VALUE=DATE-TIME:20230326T030000
TZNAME:CEST
TZOFFSETFROM:+0100
TZOFFSETTO:+0200
END:DAYLIGHT
END:VTIMEZONE
END:VCALENDAR
