BEGIN:VCALENDAR
VERSION:2.0
PRODID:-//Plone.org//NONSGML plone.app.event//EN
X-WR-TIMEZONE:Europe/Zurich
BEGIN:VEVENT
SUMMARY:Chilbimontag (schulfrei)
DTSTART;VALUE=DATE:20190929
DTEND;VALUE=DATE:20191001
DTSTAMP;VALUE=DATE-TIME:20260424T004732Z
UID:a6779578013a400291c8741142bea33e@127.0.0.1:10150
CREATED;VALUE=DATE-TIME:20190707T112504Z
LAST-MODIFIED;VALUE=DATE-TIME:20190707T112508Z
URL:https://gymnasium.ai.ch/nuetzliches/termine/chilbimontag-schulfrei-1
END:VEVENT
END:VCALENDAR
