BEGIN:VCALENDAR
VERSION:2.0
PRODID:-//Plone.org//NONSGML plone.app.event//EN
X-WR-TIMEZONE:Europe/Zurich
BEGIN:VEVENT
SUMMARY:Chilbimontag (schulfrei)
DTSTART;VALUE=DATE:20200927
DTEND;VALUE=DATE:20200929
DTSTAMP;VALUE=DATE-TIME:20260423T231526Z
UID:0e6899bae9d14e16ac5e4a618341e207@127.0.0.1:10150
CREATED;VALUE=DATE-TIME:20200911T141154Z
LAST-MODIFIED;VALUE=DATE-TIME:20200911T141201Z
URL:https://gymnasium.ai.ch/nuetzliches/termine/chilbimontag-schulfrei-2
END:VEVENT
END:VCALENDAR
