BEGIN:VCALENDAR
VERSION:2.0
PRODID:-//Plone.org//NONSGML plone.app.event//EN
X-WR-TIMEZONE:Europe/Zurich
BEGIN:VEVENT
SUMMARY:Chilbimontag (schulfrei)
DTSTART;VALUE=DATE:20210926
DTEND;VALUE=DATE:20210928
DTSTAMP;VALUE=DATE-TIME:20260423T231524Z
UID:9c859b2ffdcb471697de4f5ffc726aeb@127.0.0.1:10150
CREATED;VALUE=DATE-TIME:20210817T071151Z
LAST-MODIFIED;VALUE=DATE-TIME:20210817T071154Z
URL:https://gymnasium.ai.ch/nuetzliches/termine/chilbimontag-schulfrei-3
END:VEVENT
END:VCALENDAR
