BEGIN:VCALENDAR
VERSION:2.0
PRODID:-//Plone.org//NONSGML plone.app.event//EN
X-WR-TIMEZONE:Europe/Zurich
BEGIN:VEVENT
SUMMARY:Chilbimontag (schulfrei)
DTSTART;VALUE=DATE:20220926
DTEND;VALUE=DATE:20220927
DTSTAMP;VALUE=DATE-TIME:20260423T231524Z
UID:8b78f25537164718be72fb0dbfb44ec7@127.0.0.1:6081
CREATED;VALUE=DATE-TIME:20220711T200718Z
LAST-MODIFIED;VALUE=DATE-TIME:20220711T200723Z
URL:https://gymnasium.ai.ch/nuetzliches/termine/chilbimontag-schulfrei-4
END:VEVENT
END:VCALENDAR
