BEGIN:VCALENDAR
VERSION:2.0
PRODID:-//Plone.org//NONSGML plone.app.event//EN
X-WR-TIMEZONE:Europe/Zurich
BEGIN:VEVENT
SUMMARY:Chilbimontag (schulfrei)
DTSTART;VALUE=DATE:20230925
DTEND;VALUE=DATE:20230926
DTSTAMP;VALUE=DATE-TIME:20260424T004724Z
UID:fcd7fa2aae384ccaacce9ee4793d92a9@127.0.0.1:6081
CREATED;VALUE=DATE-TIME:20230712T083433Z
LAST-MODIFIED;VALUE=DATE-TIME:20230712T083441Z
URL:https://gymnasium.ai.ch/nuetzliches/termine/chilbimontag-schulfrei-5
END:VEVENT
END:VCALENDAR
