BEGIN:VCALENDAR
VERSION:2.0
PRODID:-//Plone.org//NONSGML plone.app.event//EN
X-WR-TIMEZONE:Europe/Zurich
BEGIN:VEVENT
SUMMARY:Chilbimontag (schulfrei)
DTSTART;VALUE=DATE:20240930
DTEND;VALUE=DATE:20241001
DTSTAMP;VALUE=DATE-TIME:20260424T004732Z
UID:4e51db3a15174a92ad9300a5264264be@127.0.0.1:6081
CREATED;VALUE=DATE-TIME:20240703T205246Z
LAST-MODIFIED;VALUE=DATE-TIME:20240703T205251Z
URL:https://gymnasium.ai.ch/nuetzliches/termine/chilbimontag-schulfrei-6
END:VEVENT
END:VCALENDAR
