BEGIN:VCALENDAR
VERSION:2.0
PRODID:-//Plone.org//NONSGML plone.app.event//EN
X-WR-TIMEZONE:Europe/Zurich
BEGIN:VEVENT
SUMMARY:Chilbimontag (schulfrei)
DTSTART;VALUE=DATE:20250929
DTEND;VALUE=DATE:20250930
DTSTAMP;VALUE=DATE-TIME:20260423T231524Z
UID:f1ab6e39aca5416c9b1fb15dce6f5a4b@127.0.0.1:6081
CREATED;VALUE=DATE-TIME:20250719T151909Z
LAST-MODIFIED;VALUE=DATE-TIME:20250719T151914Z
URL:https://gymnasium.ai.ch/nuetzliches/termine/chilbimontag-schulfrei-7
END:VEVENT
END:VCALENDAR
