BEGIN:VCALENDAR
VERSION:2.0
PRODID:-//Plone.org//NONSGML plone.app.event//EN
X-WR-TIMEZONE:Europe/Zurich
BEGIN:VEVENT
SUMMARY:Chilbimontag (schulfrei)
DTSTART;VALUE=DATE:20180923
DTEND;VALUE=DATE:20180925
DTSTAMP;VALUE=DATE-TIME:20260423T231528Z
UID:ae73a0259ffe474fadc27823dcede05e@127.0.0.1:10150
CREATED;VALUE=DATE-TIME:20180928T123211Z
LAST-MODIFIED;VALUE=DATE-TIME:20180928T151130Z
URL:https://gymnasium.ai.ch/nuetzliches/termine/chilbimontag-schulfrei
END:VEVENT
END:VCALENDAR
