BEGIN:VCALENDAR
VERSION:2.0
PRODID:-//Plone.org//NONSGML plone.app.event//EN
X-WR-TIMEZONE:Europe/Zurich
BEGIN:VEVENT
SUMMARY:Christi Himmelfahrt (schulfrei)
DTSTART;VALUE=DATE:20200520
DTEND;VALUE=DATE:20200522
DTSTAMP;VALUE=DATE-TIME:20260423T231617Z
UID:c01c13d79ea44c8988ce9461a335e1e7@127.0.0.1:10150
CREATED;VALUE=DATE-TIME:20200520T074008Z
LAST-MODIFIED;VALUE=DATE-TIME:20200520T074012Z
URL:https://gymnasium.ai.ch/nuetzliches/termine/christi-himmelfahrt-schulf
 rei-2
END:VEVENT
END:VCALENDAR
