BEGIN:VCALENDAR
VERSION:2.0
PRODID:-//Plone.org//NONSGML plone.app.event//EN
X-WR-TIMEZONE:Europe/Zurich
BEGIN:VEVENT
SUMMARY:Christi Himmelfahrt (schulfrei)
DTSTART;VALUE=DATE:20210512
DTEND;VALUE=DATE:20210514
DTSTAMP;VALUE=DATE-TIME:20260423T231615Z
UID:1c0c5ab61cd74c7fac6b971615c006b5@127.0.0.1:10150
CREATED;VALUE=DATE-TIME:20210417T142054Z
LAST-MODIFIED;VALUE=DATE-TIME:20210417T142100Z
URL:https://gymnasium.ai.ch/nuetzliches/termine/christi-himmelfahrt-schulf
 rei-3
END:VEVENT
END:VCALENDAR
