BEGIN:VCALENDAR
VERSION:2.0
PRODID:-//Plone.org//NONSGML plone.app.event//EN
X-WR-TIMEZONE:Europe/Zurich
BEGIN:VEVENT
SUMMARY:Christi Himmelfahrt (schulfrei)
DTSTART;VALUE=DATE:20220525
DTEND;VALUE=DATE:20220527
DTSTAMP;VALUE=DATE-TIME:20260424T020548Z
UID:4b42d1c6884545eeaa1c018d5e740a27@127.0.0.1:10150
CREATED;VALUE=DATE-TIME:20220118T122335Z
LAST-MODIFIED;VALUE=DATE-TIME:20220118T122338Z
URL:https://gymnasium.ai.ch/nuetzliches/termine/christi-himmelfahrt-schulf
 rei-4
END:VEVENT
END:VCALENDAR
