BEGIN:VCALENDAR
VERSION:2.0
PRODID:-//Plone.org//NONSGML plone.app.event//EN
X-WR-TIMEZONE:Europe/Zurich
BEGIN:VEVENT
SUMMARY:Christi Himmelfahrt (schulfrei)
DTSTART;VALUE=DATE:20230518
DTEND;VALUE=DATE:20230519
DTSTAMP;VALUE=DATE-TIME:20260424T004825Z
UID:d660826ebeb7468c9adc20b37319b3e2@127.0.0.1:6081
CREATED;VALUE=DATE-TIME:20221012T163001Z
LAST-MODIFIED;VALUE=DATE-TIME:20221012T163008Z
URL:https://gymnasium.ai.ch/nuetzliches/termine/christi-himmelfahrt-schulf
 rei-5
END:VEVENT
END:VCALENDAR
