BEGIN:VCALENDAR
VERSION:2.0
PRODID:-//Plone.org//NONSGML plone.app.event//EN
X-WR-TIMEZONE:Europe/Zurich
BEGIN:VEVENT
SUMMARY:Christi Himmelfahrt (schulfrei)
DTSTART;VALUE=DATE:20250529
DTEND;VALUE=DATE:20250530
DTSTAMP;VALUE=DATE-TIME:20260424T004824Z
UID:5093d0375b054a8dba97c16062f1c9ab@127.0.0.1:6081
CREATED;VALUE=DATE-TIME:20240927T154626Z
LAST-MODIFIED;VALUE=DATE-TIME:20240927T154634Z
URL:https://gymnasium.ai.ch/nuetzliches/termine/christi-himmelfahrt-schulf
 rei-6
END:VEVENT
END:VCALENDAR
