BEGIN:VCALENDAR
VERSION:2.0
PRODID:-//Plone.org//NONSGML plone.app.event//EN
X-WR-TIMEZONE:Europe/Zurich
BEGIN:VEVENT
SUMMARY:Christi Himmelfahrt (schulfrei)
DTSTART;VALUE=DATE:20180509
DTEND;VALUE=DATE:20180511
DTSTAMP;VALUE=DATE-TIME:20260423T231620Z
UID:5a8ee929fa2146948630675bc8b5460a@127.0.0.1:10150
CREATED;VALUE=DATE-TIME:20180307T093214Z
LAST-MODIFIED;VALUE=DATE-TIME:20180511T064343Z
URL:https://gymnasium.ai.ch/nuetzliches/termine/christi-himmelfahrt-schulf
 rei
END:VEVENT
END:VCALENDAR
