BEGIN:VCALENDAR
VERSION:2.0
PRODID:-//Plone.org//NONSGML plone.app.event//EN
X-WR-TIMEZONE:Europe/Zurich
BEGIN:VEVENT
SUMMARY:DELF A2\, B1 und B2: Prüfungen mündlich in Altstätten
DTSTART;VALUE=DATE:20220506
DTEND;VALUE=DATE:20220508
DTSTAMP;VALUE=DATE-TIME:20260424T004913Z
UID:72b60b009d534beda6668a9c09bd66d3@127.0.0.1:10150
CREATED;VALUE=DATE-TIME:20220506T075900Z
LAST-MODIFIED;VALUE=DATE-TIME:20220506T075905Z
URL:https://gymnasium.ai.ch/nuetzliches/termine/delf-a2-b1-und-b2-pruefung
 en-muendlich-in-altstaetten
END:VEVENT
END:VCALENDAR
