BEGIN:VCALENDAR
VERSION:2.0
PRODID:-//Plone.org//NONSGML plone.app.event//EN
X-WR-TIMEZONE:Europe/Zurich
BEGIN:VEVENT
SUMMARY:DELF A2\, B1 und B2: Prüfungen schriftlich in Altstätten
DTSTART;VALUE=DATE:20230513
DTEND;VALUE=DATE:20230514
DTSTAMP;VALUE=DATE-TIME:20260423T231829Z
UID:d7c280df076742318ab6df2b5d07b655@127.0.0.1:6081
CREATED;VALUE=DATE-TIME:20230427T090541Z
LAST-MODIFIED;VALUE=DATE-TIME:20230427T090546Z
URL:https://gymnasium.ai.ch/nuetzliches/termine/delf-a2-b1-und-b2-pruefung
 en-schriftlich-in-altstaetten
END:VEVENT
END:VCALENDAR
