BEGIN:VCALENDAR
VERSION:2.0
PRODID:-//Plone.org//NONSGML plone.app.event//EN
X-WR-TIMEZONE:Europe/Zurich
BEGIN:VEVENT
SUMMARY:DELF A2\, B1 und B2: Prüfungen schriftlich und mündlich in Altst
 ätten
DTSTART;VALUE=DATE:20220513
DTEND;VALUE=DATE:20220515
DTSTAMP;VALUE=DATE-TIME:20260423T231806Z
UID:c14590f6497f41b997c1cbc199dc9348@127.0.0.1:10150
CREATED;VALUE=DATE-TIME:20220506T075948Z
LAST-MODIFIED;VALUE=DATE-TIME:20220506T075955Z
URL:https://gymnasium.ai.ch/nuetzliches/termine/delf-a2-b1-und-b2-pruefung
 en-schriftlich-und-muendlich-in-altstaetten
END:VEVENT
END:VCALENDAR
