BEGIN:VCALENDAR
VERSION:2.0
PRODID:-//Plone.org//NONSGML plone.app.event//EN
X-WR-TIMEZONE:Europe/Zurich
BEGIN:VEVENT
SUMMARY:DELF A2\, B1 und B2: Prüfungen schriftlich
DTSTART;VALUE=DATE:20210521
DTEND;VALUE=DATE:20210523
DTSTAMP;VALUE=DATE-TIME:20260424T004732Z
UID:0b70b94fadc0486f9919f97234d9a555@127.0.0.1:10150
CREATED;VALUE=DATE-TIME:20210417T201537Z
LAST-MODIFIED;VALUE=DATE-TIME:20210417T201543Z
URL:https://gymnasium.ai.ch/nuetzliches/termine/delf-a2-b1-und-b2-pruefung
 en-schriftlich
END:VEVENT
END:VCALENDAR
