BEGIN:VCALENDAR
VERSION:2.0
PRODID:-//Plone.org//NONSGML plone.app.event//EN
X-WR-TIMEZONE:Europe/Zurich
BEGIN:VEVENT
SUMMARY:DELF A2 / B2: Prüfungen mündlich
DTSTART;VALUE=DATE-TIME:20210522T075500Z
DTEND;VALUE=DATE-TIME:20210522T143000Z
DTSTAMP;VALUE=DATE-TIME:20260424T004414Z
UID:baf52687c6d044909609af6eb2777fcc@127.0.0.1:10150
CREATED;VALUE=DATE-TIME:20210518T160911Z
LAST-MODIFIED;VALUE=DATE-TIME:20210518T160925Z
URL:https://gymnasium.ai.ch/nuetzliches/termine/delf-a2-b2-pruefungen-muen
 dlich
END:VEVENT
END:VCALENDAR
