BEGIN:VCALENDAR
VERSION:2.0
PRODID:-//Plone.org//NONSGML plone.app.event//EN
X-WR-TIMEZONE:Europe/Zurich
BEGIN:VEVENT
SUMMARY:DELF A2: Prüfungen mündlich in Altstätten - Nachmittag
DTSTART;VALUE=DATE:20240522
DTEND;VALUE=DATE:20240523
DTSTAMP;VALUE=DATE-TIME:20260423T231748Z
UID:9ff814db28884f089ef9fd10cd96abde@127.0.0.1:6081
CREATED;VALUE=DATE-TIME:20240410T063353Z
LAST-MODIFIED;VALUE=DATE-TIME:20240410T063936Z
URL:https://gymnasium.ai.ch/nuetzliches/termine/delf-a2-pruefungen-muendli
 ch-in-altstaetten-nachmittag-1
END:VEVENT
END:VCALENDAR
