BEGIN:VCALENDAR
VERSION:2.0
PRODID:-//Plone.org//NONSGML plone.app.event//EN
X-WR-TIMEZONE:Europe/Zurich
BEGIN:VEVENT
SUMMARY:DELF A2: Prüfungen mündlich in Altstätten (Nachmittag)
DTSTART;VALUE=DATE:20230523
DTEND;VALUE=DATE:20230524
DTSTAMP;VALUE=DATE-TIME:20260424T004910Z
UID:17967f0b01c24a2d852a17293604f5f3@127.0.0.1:6081
CREATED;VALUE=DATE-TIME:20230427T085752Z
LAST-MODIFIED;VALUE=DATE-TIME:20230427T085800Z
URL:https://gymnasium.ai.ch/nuetzliches/termine/delf-a2-pruefungen-muendli
 ch-in-altstaetten-nachmittag
END:VEVENT
END:VCALENDAR
