BEGIN:VCALENDAR
VERSION:2.0
PRODID:-//Plone.org//NONSGML plone.app.event//EN
X-WR-TIMEZONE:Europe/Zurich
BEGIN:VEVENT
SUMMARY:DELF A2: Prüfungen mündlich in Altstätten
DTSTART;TZID=Europe/Zurich;VALUE=DATE-TIME:20250514T130000
DTEND;TZID=Europe/Zurich;VALUE=DATE-TIME:20250514T170000
DTSTAMP;VALUE=DATE-TIME:20260423T231615Z
UID:c8d0e1f671904152ae964c03d89ea3e5@127.0.0.1:6081
CREATED;VALUE=DATE-TIME:20250510T094142Z
LAST-MODIFIED;VALUE=DATE-TIME:20250510T094149Z
URL:https://gymnasium.ai.ch/nuetzliches/termine/delf-a2-pruefungen-muendli
 ch-in-altstaetten
END:VEVENT
BEGIN:VTIMEZONE
TZID:Europe/Zurich
X-LIC-LOCATION:Europe/Zurich
BEGIN:DAYLIGHT
DTSTART;VALUE=DATE-TIME:20250330T030000
TZNAME:CEST
TZOFFSETFROM:+0100
TZOFFSETTO:+0200
END:DAYLIGHT
END:VTIMEZONE
END:VCALENDAR
