BEGIN:VCALENDAR
VERSION:2.0
PRODID:-//Plone.org//NONSGML plone.app.event//EN
X-WR-TIMEZONE:Europe/Zurich
BEGIN:VEVENT
SUMMARY:DELF A2: Prüfungen mündlich
DTSTART;VALUE=DATE-TIME:20210519T113000Z
DTEND;VALUE=DATE-TIME:20210519T143000Z
DTSTAMP;VALUE=DATE-TIME:20260423T231431Z
UID:02edb81af850430cadf5ffcc5efd685d@127.0.0.1:10150
CREATED;VALUE=DATE-TIME:20210518T141722Z
LAST-MODIFIED;VALUE=DATE-TIME:20210518T141728Z
URL:https://gymnasium.ai.ch/nuetzliches/termine/delf-a2-pruefungen-muendli
 ch
END:VEVENT
END:VCALENDAR
