BEGIN:VCALENDAR
VERSION:2.0
PRODID:-//Plone.org//NONSGML plone.app.event//EN
X-WR-TIMEZONE:Europe/Zurich
BEGIN:VEVENT
SUMMARY:DELF A2 und B2: Prüfungen schriftlich in Altstätten
DTSTART;VALUE=DATE:20250517
DTEND;VALUE=DATE:20250518
DTSTAMP;VALUE=DATE-TIME:20260424T004952Z
UID:f235f20eb5504cf2a5d5471b4f8e5f6c@127.0.0.1:6081
CREATED;VALUE=DATE-TIME:20240927T153458Z
LAST-MODIFIED;VALUE=DATE-TIME:20240927T153504Z
URL:https://gymnasium.ai.ch/nuetzliches/termine/delf-a2-und-b2-pruefungen-
 schriftlich-in-altstaetten
END:VEVENT
END:VCALENDAR
