BEGIN:VCALENDAR
VERSION:2.0
PRODID:-//Plone.org//NONSGML plone.app.event//EN
X-WR-TIMEZONE:Europe/Zurich
BEGIN:VEVENT
SUMMARY:DELF B1 und B2: Prüfungen mündlich in Altstätten
DTSTART;VALUE=DATE:20230513
DTEND;VALUE=DATE:20230514
DTSTAMP;VALUE=DATE-TIME:20260424T004951Z
UID:e4cc1873c6a24767b5658a2dd22b0473@127.0.0.1:6081
CREATED;VALUE=DATE-TIME:20230427T090157Z
LAST-MODIFIED;VALUE=DATE-TIME:20230427T090630Z
URL:https://gymnasium.ai.ch/nuetzliches/termine/delf-b1-b2-pruefungen-muen
 dlich-in-altstaetten-nachmittag
END:VEVENT
END:VCALENDAR
