BEGIN:VCALENDAR
VERSION:2.0
PRODID:-//Plone.org//NONSGML plone.app.event//EN
X-WR-TIMEZONE:Europe/Zurich
BEGIN:VEVENT
SUMMARY:DELF B1 / B2: Prüfungen mündlich
DTSTART;VALUE=DATE-TIME:20210521T105500Z
DTEND;VALUE=DATE-TIME:20210521T150500Z
DTSTAMP;VALUE=DATE-TIME:20260423T231515Z
UID:518a115f982948c08b06270fbe6e6858@127.0.0.1:10150
CREATED;VALUE=DATE-TIME:20210518T160434Z
LAST-MODIFIED;VALUE=DATE-TIME:20210518T160437Z
URL:https://gymnasium.ai.ch/nuetzliches/termine/delf-b1-b2-pruefungen-muen
 dlich
END:VEVENT
END:VCALENDAR
