BEGIN:VCALENDAR
VERSION:2.0
PRODID:-//Plone.org//NONSGML plone.app.event//EN
X-WR-TIMEZONE:Europe/Zurich
BEGIN:VEVENT
SUMMARY:DELF B1 und B2: Prüfungen mündlich in Altstätten
DTSTART;VALUE=DATE:20240525
DTEND;VALUE=DATE:20240526
DTSTAMP;VALUE=DATE-TIME:20260424T004858Z
UID:c9161fe6fc724a7d9cd13687631947f4@127.0.0.1:6081
CREATED;VALUE=DATE-TIME:20240410T065217Z
LAST-MODIFIED;VALUE=DATE-TIME:20240410T065223Z
URL:https://gymnasium.ai.ch/nuetzliches/termine/delf-b1-und-b2-pruefungen-
 muendlich-in-altstaetten
END:VEVENT
END:VCALENDAR
