BEGIN:VCALENDAR
VERSION:2.0
PRODID:-//Plone.org//NONSGML plone.app.event//EN
X-WR-TIMEZONE:Europe/Zurich
BEGIN:VEVENT
SUMMARY:DELF B2: Prüfung mündlich
DTSTART;VALUE=DATE-TIME:20210525T121000Z
DTEND;VALUE=DATE-TIME:20210525T130500Z
DTSTAMP;VALUE=DATE-TIME:20260424T004608Z
UID:e6fef53d86e24859a179e839605e6428@127.0.0.1:10150
CREATED;VALUE=DATE-TIME:20210518T161127Z
LAST-MODIFIED;VALUE=DATE-TIME:20210518T161131Z
URL:https://gymnasium.ai.ch/nuetzliches/termine/delf-b2-pruefung-muendlich
END:VEVENT
END:VCALENDAR
