BEGIN:VCALENDAR
VERSION:2.0
PRODID:-//Plone.org//NONSGML plone.app.event//EN
X-WR-TIMEZONE:Europe/Zurich
BEGIN:VEVENT
SUMMARY:DELF A2 und B2: Nachprüfungen «Schuljahr 2020/21» schriftlich u
 nd mündlich\, in St. Gallen
DTSTART;VALUE=DATE:20211119
DTEND;VALUE=DATE:20211121
DTSTAMP;VALUE=DATE-TIME:20260423T231816Z
UID:39169c2409494fca822aa0c0d6daabf1@127.0.0.1:10150
CREATED;VALUE=DATE-TIME:20211103T175904Z
LAST-MODIFIED;VALUE=DATE-TIME:20211109T080929Z
URL:https://gymnasium.ai.ch/nuetzliches/termine/delf-nachpruefungen-a2-b2-
 schriftlich-und-muendlich-schuljahr-2020-21-in-st-gallen
END:VEVENT
END:VCALENDAR
