BEGIN:VCALENDAR
VERSION:2.0
PRODID:-//Plone.org//NONSGML plone.app.event//EN
X-WR-TIMEZONE:Europe/Zurich
BEGIN:VEVENT
SUMMARY:DELF Prüfungen B1 und B2
DTSTART;VALUE=DATE:20200918
DTEND;VALUE=DATE:20200920
DTSTAMP;VALUE=DATE-TIME:20260424T004420Z
UID:3fc180fbc0f14df0aa6a3267e7e9dcdf@127.0.0.1:10150
CREATED;VALUE=DATE-TIME:20200911T140421Z
LAST-MODIFIED;VALUE=DATE-TIME:20200911T140427Z
URL:https://gymnasium.ai.ch/nuetzliches/termine/delf-pruefungen-b1-und-b2
END:VEVENT
END:VCALENDAR
